BEGIN:VCALENDAR
VERSION:2.0
PRODID:-//Acclaimed Mobile Health - ECPv6.15.20//NONSGML v1.0//EN
CALSCALE:GREGORIAN
METHOD:PUBLISH
X-WR-CALNAME:Acclaimed Mobile Health
X-ORIGINAL-URL:https://acclaimedmobile.com
X-WR-CALDESC:Events for Acclaimed Mobile Health
REFRESH-INTERVAL;VALUE=DURATION:PT1H
X-Robots-Tag:noindex
X-PUBLISHED-TTL:PT1H
BEGIN:VTIMEZONE
TZID:America/New_York
BEGIN:DAYLIGHT
TZOFFSETFROM:-0500
TZOFFSETTO:-0400
TZNAME:EDT
DTSTART:20220313T070000
END:DAYLIGHT
BEGIN:STANDARD
TZOFFSETFROM:-0400
TZOFFSETTO:-0500
TZNAME:EST
DTSTART:20221106T060000
END:STANDARD
BEGIN:DAYLIGHT
TZOFFSETFROM:-0500
TZOFFSETTO:-0400
TZNAME:EDT
DTSTART:20230312T070000
END:DAYLIGHT
BEGIN:STANDARD
TZOFFSETFROM:-0400
TZOFFSETTO:-0500
TZNAME:EST
DTSTART:20231105T060000
END:STANDARD
BEGIN:DAYLIGHT
TZOFFSETFROM:-0500
TZOFFSETTO:-0400
TZNAME:EDT
DTSTART:20240310T070000
END:DAYLIGHT
BEGIN:STANDARD
TZOFFSETFROM:-0400
TZOFFSETTO:-0500
TZNAME:EST
DTSTART:20241103T060000
END:STANDARD
BEGIN:DAYLIGHT
TZOFFSETFROM:-0500
TZOFFSETTO:-0400
TZNAME:EDT
DTSTART:20250309T070000
END:DAYLIGHT
BEGIN:STANDARD
TZOFFSETFROM:-0400
TZOFFSETTO:-0500
TZNAME:EST
DTSTART:20251102T060000
END:STANDARD
BEGIN:DAYLIGHT
TZOFFSETFROM:-0500
TZOFFSETTO:-0400
TZNAME:EDT
DTSTART:20260308T070000
END:DAYLIGHT
BEGIN:STANDARD
TZOFFSETFROM:-0400
TZOFFSETTO:-0500
TZNAME:EST
DTSTART:20261101T060000
END:STANDARD
BEGIN:DAYLIGHT
TZOFFSETFROM:-0500
TZOFFSETTO:-0400
TZNAME:EDT
DTSTART:20270314T070000
END:DAYLIGHT
BEGIN:STANDARD
TZOFFSETFROM:-0400
TZOFFSETTO:-0500
TZNAME:EST
DTSTART:20271107T060000
END:STANDARD
END:VTIMEZONE
BEGIN:VEVENT
DTSTART;TZID=America/New_York:20260316T064000
DTEND;TZID=America/New_York:20260316T150000
DTSTAMP:20260421T071729
CREATED:20260226T162721Z
LAST-MODIFIED:20260226T162721Z
UID:2737-1773643200-1773673200@acclaimedmobile.com
SUMMARY:William Floyd High School
DESCRIPTION:
URL:https://acclaimedmobile.com/event/william-floyd-high-school-6/
LOCATION:William Floyd High School\, 240 Mastic Beach Rd\, Mastic Beach\, NY\, 11951\, United States
END:VEVENT
BEGIN:VEVENT
DTSTART;TZID=America/New_York:20260122T064000
DTEND;TZID=America/New_York:20260122T150000
DTSTAMP:20260421T071729
CREATED:20250926T174338Z
LAST-MODIFIED:20250926T174338Z
UID:2500-1769064000-1769094000@acclaimedmobile.com
SUMMARY:William Floyd High School
DESCRIPTION:
URL:https://acclaimedmobile.com/event/william-floyd-high-school-5/2026-01-22/
LOCATION:William Floyd High School\, 240 Mastic Beach Rd\, Mastic Beach\, NY\, 11951\, United States
END:VEVENT
BEGIN:VEVENT
DTSTART;TZID=America/New_York:20260121T064000
DTEND;TZID=America/New_York:20260121T150000
DTSTAMP:20260421T071729
CREATED:20250926T174338Z
LAST-MODIFIED:20250926T174338Z
UID:2499-1768977600-1769007600@acclaimedmobile.com
SUMMARY:William Floyd High School
DESCRIPTION:
URL:https://acclaimedmobile.com/event/william-floyd-high-school-5/2026-01-21/
LOCATION:William Floyd High School\, 240 Mastic Beach Rd\, Mastic Beach\, NY\, 11951\, United States
END:VEVENT
BEGIN:VEVENT
DTSTART;TZID=America/New_York:20250207T064000
DTEND;TZID=America/New_York:20250207T150000
DTSTAMP:20260421T071729
CREATED:20250110T145647Z
LAST-MODIFIED:20250110T145647Z
UID:2250-1738910400-1738940400@acclaimedmobile.com
SUMMARY:William Floyd High School
DESCRIPTION:
URL:https://acclaimedmobile.com/event/william-floyd-high-school-4/
LOCATION:William Floyd High School\, 240 Mastic Beach Rd\, Mastic Beach\, NY\, 11951\, United States
END:VEVENT
BEGIN:VEVENT
DTSTART;TZID=America/New_York:20250122T064000
DTEND;TZID=America/New_York:20250122T150000
DTSTAMP:20260421T071729
CREATED:20241119T155410Z
LAST-MODIFIED:20241119T155410Z
UID:2150-1737528000-1737558000@acclaimedmobile.com
SUMMARY:William Floyd High School
DESCRIPTION:
URL:https://acclaimedmobile.com/event/william-floyd-high-school-3/
LOCATION:William Floyd High School\, 240 Mastic Beach Rd\, Mastic Beach\, NY\, 11951\, United States
END:VEVENT
BEGIN:VEVENT
DTSTART;TZID=America/New_York:20240125T064000
DTEND;TZID=America/New_York:20240125T150000
DTSTAMP:20260421T071729
CREATED:20231107T211508Z
LAST-MODIFIED:20231107T211508Z
UID:1664-1706164800-1706194800@acclaimedmobile.com
SUMMARY:William Floyd High School
DESCRIPTION:
URL:https://acclaimedmobile.com/event/william-floyd-high-school-2/
LOCATION:William Floyd High School\, 240 Mastic Beach Rd\, Mastic Beach\, NY\, 11951\, United States
END:VEVENT
BEGIN:VEVENT
DTSTART;TZID=America/New_York:20230126T064000
DTEND;TZID=America/New_York:20230126T150000
DTSTAMP:20260421T071729
CREATED:20221209T185016Z
LAST-MODIFIED:20221209T185016Z
UID:1153-1674715200-1674745200@acclaimedmobile.com
SUMMARY:William Floyd High School
DESCRIPTION:
URL:https://acclaimedmobile.com/event/william-floyd-high-school/
LOCATION:William Floyd High School\, 240 Mastic Beach Rd\, Mastic Beach\, NY\, 11951\, United States
END:VEVENT
END:VCALENDAR