BEGIN:VCALENDAR
VERSION:2.0
PRODID:-//Acclaimed Mobile Health - ECPv6.15.20//NONSGML v1.0//EN
CALSCALE:GREGORIAN
METHOD:PUBLISH
X-WR-CALNAME:Acclaimed Mobile Health
X-ORIGINAL-URL:https://acclaimedmobile.com
X-WR-CALDESC:Events for Acclaimed Mobile Health
REFRESH-INTERVAL;VALUE=DURATION:PT1H
X-Robots-Tag:noindex
X-PUBLISHED-TTL:PT1H
BEGIN:VTIMEZONE
TZID:America/New_York
BEGIN:DAYLIGHT
TZOFFSETFROM:-0500
TZOFFSETTO:-0400
TZNAME:EDT
DTSTART:20220313T070000
END:DAYLIGHT
BEGIN:STANDARD
TZOFFSETFROM:-0400
TZOFFSETTO:-0500
TZNAME:EST
DTSTART:20221106T060000
END:STANDARD
BEGIN:DAYLIGHT
TZOFFSETFROM:-0500
TZOFFSETTO:-0400
TZNAME:EDT
DTSTART:20230312T070000
END:DAYLIGHT
BEGIN:STANDARD
TZOFFSETFROM:-0400
TZOFFSETTO:-0500
TZNAME:EST
DTSTART:20231105T060000
END:STANDARD
BEGIN:DAYLIGHT
TZOFFSETFROM:-0500
TZOFFSETTO:-0400
TZNAME:EDT
DTSTART:20240310T070000
END:DAYLIGHT
BEGIN:STANDARD
TZOFFSETFROM:-0400
TZOFFSETTO:-0500
TZNAME:EST
DTSTART:20241103T060000
END:STANDARD
BEGIN:DAYLIGHT
TZOFFSETFROM:-0500
TZOFFSETTO:-0400
TZNAME:EDT
DTSTART:20250309T070000
END:DAYLIGHT
BEGIN:STANDARD
TZOFFSETFROM:-0400
TZOFFSETTO:-0500
TZNAME:EST
DTSTART:20251102T060000
END:STANDARD
BEGIN:DAYLIGHT
TZOFFSETFROM:-0500
TZOFFSETTO:-0400
TZNAME:EDT
DTSTART:20260308T070000
END:DAYLIGHT
BEGIN:STANDARD
TZOFFSETFROM:-0400
TZOFFSETTO:-0500
TZNAME:EST
DTSTART:20261101T060000
END:STANDARD
BEGIN:DAYLIGHT
TZOFFSETFROM:-0500
TZOFFSETTO:-0400
TZNAME:EDT
DTSTART:20270314T070000
END:DAYLIGHT
BEGIN:STANDARD
TZOFFSETFROM:-0400
TZOFFSETTO:-0500
TZNAME:EST
DTSTART:20271107T060000
END:STANDARD
END:VTIMEZONE
BEGIN:VEVENT
DTSTART;TZID=America/New_York:20260225T080000
DTEND;TZID=America/New_York:20260225T160000
DTSTAMP:20260421T073514
CREATED:20251112T182037Z
LAST-MODIFIED:20251112T182037Z
UID:2567-1772006400-1772035200@acclaimedmobile.com
SUMMARY:HHH SD Central Office
DESCRIPTION:
URL:https://acclaimedmobile.com/event/hhh-sd-central-office-3/
LOCATION:HHH SD Central Office\, 525 Half Hollow Rd\, Dix Hills\, NY\, 11746\, United States
END:VEVENT
BEGIN:VEVENT
DTSTART;TZID=America/New_York:20250227T080000
DTEND;TZID=America/New_York:20250227T160000
DTSTAMP:20260421T073514
CREATED:20241108T182444Z
LAST-MODIFIED:20241108T182444Z
UID:2138-1740643200-1740672000@acclaimedmobile.com
SUMMARY:HHH SD Central Office
DESCRIPTION:
URL:https://acclaimedmobile.com/event/hhh-sd-central-office-2/
LOCATION:HHH SD Central Office\, 525 Half Hollow Rd\, Dix Hills\, NY\, 11746\, United States
END:VEVENT
BEGIN:VEVENT
DTSTART;TZID=America/New_York:20240215T080000
DTEND;TZID=America/New_York:20240215T160000
DTSTAMP:20260421T073514
CREATED:20231019T182420Z
LAST-MODIFIED:20231019T182420Z
UID:1623-1707984000-1708012800@acclaimedmobile.com
SUMMARY:HHH Central Office
DESCRIPTION:
URL:https://acclaimedmobile.com/event/hhh-central-office/
LOCATION:HHH SD Central Office\, 525 Half Hollow Rd\, Dix Hills\, NY\, 11746\, United States
END:VEVENT
BEGIN:VEVENT
DTSTART;TZID=America/New_York:20230215T080000
DTEND;TZID=America/New_York:20230215T160000
DTSTAMP:20260421T073514
CREATED:20230120T194737Z
LAST-MODIFIED:20230120T194737Z
UID:1269-1676448000-1676476800@acclaimedmobile.com
SUMMARY:HHH SD Central Office
DESCRIPTION:
URL:https://acclaimedmobile.com/event/hhh-sd-central-office/
LOCATION:HHH SD Central Office\, 525 Half Hollow Rd\, Dix Hills\, NY\, 11746\, United States
END:VEVENT
END:VCALENDAR