BEGIN:VCALENDAR
VERSION:2.0
PRODID:-//Acclaimed Mobile Health - ECPv6.15.20//NONSGML v1.0//EN
CALSCALE:GREGORIAN
METHOD:PUBLISH
X-WR-CALNAME:Acclaimed Mobile Health
X-ORIGINAL-URL:https://acclaimedmobile.com
X-WR-CALDESC:Events for Acclaimed Mobile Health
REFRESH-INTERVAL;VALUE=DURATION:PT1H
X-Robots-Tag:noindex
X-PUBLISHED-TTL:PT1H
BEGIN:VTIMEZONE
TZID:America/New_York
BEGIN:DAYLIGHT
TZOFFSETFROM:-0500
TZOFFSETTO:-0400
TZNAME:EDT
DTSTART:20250309T070000
END:DAYLIGHT
BEGIN:STANDARD
TZOFFSETFROM:-0400
TZOFFSETTO:-0500
TZNAME:EST
DTSTART:20251102T060000
END:STANDARD
BEGIN:DAYLIGHT
TZOFFSETFROM:-0500
TZOFFSETTO:-0400
TZNAME:EDT
DTSTART:20260308T070000
END:DAYLIGHT
BEGIN:STANDARD
TZOFFSETFROM:-0400
TZOFFSETTO:-0500
TZNAME:EST
DTSTART:20261101T060000
END:STANDARD
BEGIN:DAYLIGHT
TZOFFSETFROM:-0500
TZOFFSETTO:-0400
TZNAME:EDT
DTSTART:20270314T070000
END:DAYLIGHT
BEGIN:STANDARD
TZOFFSETFROM:-0400
TZOFFSETTO:-0500
TZNAME:EST
DTSTART:20271107T060000
END:STANDARD
END:VTIMEZONE
BEGIN:VEVENT
DTSTART;TZID=America/New_York:20260527T080000
DTEND;TZID=America/New_York:20260527T160000
DTSTAMP:20260420T170425
CREATED:20260414T172407Z
LAST-MODIFIED:20260414T172407Z
UID:2791-1779868800-1779897600@acclaimedmobile.com
SUMMARY:SCCEA Central Islip Courts
DESCRIPTION:
URL:https://acclaimedmobile.com/event/sccea-central-islip-courts-2/
LOCATION:SCCEA Central Islip Courts\, 400 Carleton Ave\, Central Islip\, NY\, 11772\, United States
END:VEVENT
END:VCALENDAR