BEGIN:VCALENDAR
VERSION:2.0
PRODID:-//Acclaimed Mobile Health - ECPv6.15.20//NONSGML v1.0//EN
CALSCALE:GREGORIAN
METHOD:PUBLISH
X-WR-CALNAME:Acclaimed Mobile Health
X-ORIGINAL-URL:https://acclaimedmobile.com
X-WR-CALDESC:Events for Acclaimed Mobile Health
REFRESH-INTERVAL;VALUE=DURATION:PT1H
X-Robots-Tag:noindex
X-PUBLISHED-TTL:PT1H
BEGIN:VTIMEZONE
TZID:America/New_York
BEGIN:DAYLIGHT
TZOFFSETFROM:-0500
TZOFFSETTO:-0400
TZNAME:EDT
DTSTART:20220313T070000
END:DAYLIGHT
BEGIN:STANDARD
TZOFFSETFROM:-0400
TZOFFSETTO:-0500
TZNAME:EST
DTSTART:20221106T060000
END:STANDARD
BEGIN:DAYLIGHT
TZOFFSETFROM:-0500
TZOFFSETTO:-0400
TZNAME:EDT
DTSTART:20230312T070000
END:DAYLIGHT
BEGIN:STANDARD
TZOFFSETFROM:-0400
TZOFFSETTO:-0500
TZNAME:EST
DTSTART:20231105T060000
END:STANDARD
BEGIN:DAYLIGHT
TZOFFSETFROM:-0500
TZOFFSETTO:-0400
TZNAME:EDT
DTSTART:20240310T070000
END:DAYLIGHT
BEGIN:STANDARD
TZOFFSETFROM:-0400
TZOFFSETTO:-0500
TZNAME:EST
DTSTART:20241103T060000
END:STANDARD
BEGIN:DAYLIGHT
TZOFFSETFROM:-0500
TZOFFSETTO:-0400
TZNAME:EDT
DTSTART:20250309T070000
END:DAYLIGHT
BEGIN:STANDARD
TZOFFSETFROM:-0400
TZOFFSETTO:-0500
TZNAME:EST
DTSTART:20251102T060000
END:STANDARD
BEGIN:DAYLIGHT
TZOFFSETFROM:-0500
TZOFFSETTO:-0400
TZNAME:EDT
DTSTART:20260308T070000
END:DAYLIGHT
BEGIN:STANDARD
TZOFFSETFROM:-0400
TZOFFSETTO:-0500
TZNAME:EST
DTSTART:20261101T060000
END:STANDARD
END:VTIMEZONE
BEGIN:VTIMEZONE
TZID:UTC
BEGIN:STANDARD
TZOFFSETFROM:+0000
TZOFFSETTO:+0000
TZNAME:UTC
DTSTART:20210101T000000
END:STANDARD
END:VTIMEZONE
BEGIN:VEVENT
DTSTART;TZID=America/New_York:20251105T070000
DTEND;TZID=America/New_York:20251105T160000
DTSTAMP:20260420T190240
CREATED:20251107T163919Z
LAST-MODIFIED:20251107T163919Z
UID:2542-1762326000-1762358400@acclaimedmobile.com
SUMMARY:SCCEA Central Islip
DESCRIPTION:
URL:https://acclaimedmobile.com/event/sccea-central-islip-4/
LOCATION:SCCEA Central Islip Courts\, 400 Carleton Ave\, Central Islip\, NY\, 11772\, United States
END:VEVENT
BEGIN:VEVENT
DTSTART;TZID=America/New_York:20240925T080000
DTEND;TZID=America/New_York:20240925T160000
DTSTAMP:20260420T190240
CREATED:20240318T132142Z
LAST-MODIFIED:20240318T132142Z
UID:1967-1727251200-1727280000@acclaimedmobile.com
SUMMARY:SCCEA Central Islip Courts
DESCRIPTION:
URL:https://acclaimedmobile.com/event/sccea-riverhead-courts/2024-09-25/
LOCATION:SCCEA Central Islip Courts\, 400 Carleton Ave\, Central Islip\, NY\, 11772\, United States
END:VEVENT
BEGIN:VEVENT
DTSTART;TZID=America/New_York:20240626T080000
DTEND;TZID=America/New_York:20240626T160000
DTSTAMP:20260420T190240
CREATED:20240318T132142Z
LAST-MODIFIED:20240718T151751Z
UID:1873-1719388800-1719417600@acclaimedmobile.com
SUMMARY:SCCEA Central Islip Courts
DESCRIPTION:
URL:https://acclaimedmobile.com/event/sccea-riverhead-courts/2024-06-26/
LOCATION:SCCEA Central Islip Courts\, 400 Carleton Ave\, Central Islip\, NY\, 11772\, United States
END:VEVENT
BEGIN:VEVENT
DTSTART;TZID=America/New_York:20231101T080000
DTEND;TZID=America/New_York:20231101T160000
DTSTAMP:20260420T190240
CREATED:20231027T182940Z
LAST-MODIFIED:20231027T182940Z
UID:1627-1698825600-1698854400@acclaimedmobile.com
SUMMARY:SCCEA Central Islip
DESCRIPTION:
URL:https://acclaimedmobile.com/event/sccea-central-islip-3/
LOCATION:SCCEA Central Islip Courts\, 400 Carleton Ave\, Central Islip\, NY\, 11772\, United States
END:VEVENT
BEGIN:VEVENT
DTSTART;TZID=America/New_York:20230914T080000
DTEND;TZID=America/New_York:20230914T160000
DTSTAMP:20260420T190240
CREATED:20230728T191719Z
LAST-MODIFIED:20230728T191719Z
UID:1511-1694678400-1694707200@acclaimedmobile.com
SUMMARY:SCCEA Central Islip
DESCRIPTION:
URL:https://acclaimedmobile.com/event/sccea-central-islip-2/
LOCATION:SCCEA Central Islip Courts\, 400 Carleton Ave\, Central Islip\, NY\, 11772\, United States
END:VEVENT
BEGIN:VEVENT
DTSTART;TZID=America/New_York:20230628T080000
DTEND;TZID=America/New_York:20230628T160000
DTSTAMP:20260420T190240
CREATED:20230222T195741Z
LAST-MODIFIED:20230222T195741Z
UID:1329-1687939200-1687968000@acclaimedmobile.com
SUMMARY:SCCEA CENTRAL ISLIP COURTS
DESCRIPTION:
URL:https://acclaimedmobile.com/event/sccea-central-islip-courts/
LOCATION:SCCEA Central Islip Courts\, 400 Carleton Ave\, Central Islip\, NY\, 11772\, United States
END:VEVENT
BEGIN:VEVENT
DTSTART;TZID=UTC:20220627T080000
DTEND;TZID=UTC:20220627T160000
DTSTAMP:20260420T190240
CREATED:20220614T141246Z
LAST-MODIFIED:20220614T141246Z
UID:761-1656316800-1656345600@acclaimedmobile.com
SUMMARY:SCCEA Central Islip
DESCRIPTION:
URL:https://acclaimedmobile.com/event/sccea-central-islip/
LOCATION:SCCEA Central Islip Courts\, 400 Carleton Ave\, Central Islip\, NY\, 11772\, United States
END:VEVENT
END:VCALENDAR