BEGIN:VCALENDAR
VERSION:2.0
PRODID:-//Acclaimed Mobile Health - ECPv6.15.20//NONSGML v1.0//EN
CALSCALE:GREGORIAN
METHOD:PUBLISH
X-WR-CALNAME:Acclaimed Mobile Health
X-ORIGINAL-URL:https://acclaimedmobile.com
X-WR-CALDESC:Events for Acclaimed Mobile Health
REFRESH-INTERVAL;VALUE=DURATION:PT1H
X-Robots-Tag:noindex
X-PUBLISHED-TTL:PT1H
BEGIN:VTIMEZONE
TZID:America/New_York
BEGIN:DAYLIGHT
TZOFFSETFROM:-0500
TZOFFSETTO:-0400
TZNAME:EDT
DTSTART:20220313T070000
END:DAYLIGHT
BEGIN:STANDARD
TZOFFSETFROM:-0400
TZOFFSETTO:-0500
TZNAME:EST
DTSTART:20221106T060000
END:STANDARD
BEGIN:DAYLIGHT
TZOFFSETFROM:-0500
TZOFFSETTO:-0400
TZNAME:EDT
DTSTART:20230312T070000
END:DAYLIGHT
BEGIN:STANDARD
TZOFFSETFROM:-0400
TZOFFSETTO:-0500
TZNAME:EST
DTSTART:20231105T060000
END:STANDARD
BEGIN:DAYLIGHT
TZOFFSETFROM:-0500
TZOFFSETTO:-0400
TZNAME:EDT
DTSTART:20240310T070000
END:DAYLIGHT
BEGIN:STANDARD
TZOFFSETFROM:-0400
TZOFFSETTO:-0500
TZNAME:EST
DTSTART:20241103T060000
END:STANDARD
BEGIN:DAYLIGHT
TZOFFSETFROM:-0500
TZOFFSETTO:-0400
TZNAME:EDT
DTSTART:20250309T070000
END:DAYLIGHT
BEGIN:STANDARD
TZOFFSETFROM:-0400
TZOFFSETTO:-0500
TZNAME:EST
DTSTART:20251102T060000
END:STANDARD
BEGIN:DAYLIGHT
TZOFFSETFROM:-0500
TZOFFSETTO:-0400
TZNAME:EDT
DTSTART:20260308T070000
END:DAYLIGHT
BEGIN:STANDARD
TZOFFSETFROM:-0400
TZOFFSETTO:-0500
TZNAME:EST
DTSTART:20261101T060000
END:STANDARD
END:VTIMEZONE
BEGIN:VEVENT
DTSTART;TZID=America/New_York:20250428T080000
DTEND;TZID=America/New_York:20250428T160000
DTSTAMP:20260420T143130
CREATED:20250207T185539Z
LAST-MODIFIED:20250207T185539Z
UID:2311-1745827200-1745856000@acclaimedmobile.com
SUMMARY:Brookside Central Office
DESCRIPTION:
URL:https://acclaimedmobile.com/event/brookside-central-office/
LOCATION:Bellmore Merrick CHSD Brookside Central Office\, 1260 Meadowbrook Rd\, N Merrick\, NY\, 11566\, United States
END:VEVENT
BEGIN:VEVENT
DTSTART;TZID=America/New_York:20240418T080000
DTEND;TZID=America/New_York:20240418T160000
DTSTAMP:20260420T143130
CREATED:20231208T215026Z
LAST-MODIFIED:20240122T164627Z
UID:1732-1713427200-1713456000@acclaimedmobile.com
SUMMARY:BMCHSD Brookside Central Office
DESCRIPTION:
URL:https://acclaimedmobile.com/event/bmchsd-brookside-central-office/2024-04-18/
LOCATION:Bellmore Merrick CHSD Brookside Central Office\, 1260 Meadowbrook Rd\, N Merrick\, NY\, 11566\, United States
END:VEVENT
BEGIN:VEVENT
DTSTART;TZID=America/New_York:20230421T080000
DTEND;TZID=America/New_York:20230421T160000
DTSTAMP:20260420T143130
CREATED:20230303T170459Z
LAST-MODIFIED:20230303T170459Z
UID:1364-1682064000-1682092800@acclaimedmobile.com
SUMMARY:Bellmore Merrick CHSD Brookside Central Office
DESCRIPTION:
URL:https://acclaimedmobile.com/event/bellmore-merrick-chsd-brookside-central-office/
LOCATION:Bellmore Merrick CHSD Brookside Central Office\, 1260 Meadowbrook Rd\, N Merrick\, NY\, 11566\, United States
END:VEVENT
END:VCALENDAR