BEGIN:VCALENDAR
VERSION:2.0
PRODID:-//Acclaimed Mobile Health - ECPv6.15.20//NONSGML v1.0//EN
CALSCALE:GREGORIAN
METHOD:PUBLISH
X-WR-CALNAME:Acclaimed Mobile Health
X-ORIGINAL-URL:https://acclaimedmobile.com
X-WR-CALDESC:Events for Acclaimed Mobile Health
REFRESH-INTERVAL;VALUE=DURATION:PT1H
X-Robots-Tag:noindex
X-PUBLISHED-TTL:PT1H
BEGIN:VTIMEZONE
TZID:America/New_York
BEGIN:DAYLIGHT
TZOFFSETFROM:-0500
TZOFFSETTO:-0400
TZNAME:EDT
DTSTART:20240310T070000
END:DAYLIGHT
BEGIN:STANDARD
TZOFFSETFROM:-0400
TZOFFSETTO:-0500
TZNAME:EST
DTSTART:20241103T060000
END:STANDARD
BEGIN:DAYLIGHT
TZOFFSETFROM:-0500
TZOFFSETTO:-0400
TZNAME:EDT
DTSTART:20250309T070000
END:DAYLIGHT
BEGIN:STANDARD
TZOFFSETFROM:-0400
TZOFFSETTO:-0500
TZNAME:EST
DTSTART:20251102T060000
END:STANDARD
BEGIN:DAYLIGHT
TZOFFSETFROM:-0500
TZOFFSETTO:-0400
TZNAME:EDT
DTSTART:20260308T070000
END:DAYLIGHT
BEGIN:STANDARD
TZOFFSETFROM:-0400
TZOFFSETTO:-0500
TZNAME:EST
DTSTART:20261101T060000
END:STANDARD
END:VTIMEZONE
BEGIN:VEVENT
DTSTART;TZID=America/New_York:20251201T080000
DTEND;TZID=America/New_York:20251201T160000
DTSTAMP:20260420T213438
CREATED:20250915T203835Z
LAST-MODIFIED:20250915T203835Z
UID:2452-1764576000-1764604800@acclaimedmobile.com
SUMMARY:Riverhead District Office
DESCRIPTION:
URL:https://acclaimedmobile.com/event/riverhead-district-office/
LOCATION:Riverhead District Office\, 814 Harrison Ave\, Riverhead\, NY\, 11901\, United States
END:VEVENT
BEGIN:VEVENT
DTSTART;TZID=America/New_York:20251202T080000
DTEND;TZID=America/New_York:20251202T160000
DTSTAMP:20260420T213438
CREATED:20251008T184156Z
LAST-MODIFIED:20251008T184220Z
UID:2512-1764662400-1764691200@acclaimedmobile.com
SUMMARY:COBANC Family Court
DESCRIPTION:
URL:https://acclaimedmobile.com/event/cobanc-family-court-2/2025-12-02/
LOCATION:COBANC Family Court\, 101 County Seat Drive\, Mineola\, NY\, 11501\, United States
END:VEVENT
BEGIN:VEVENT
DTSTART;TZID=America/New_York:20251203T080000
DTEND;TZID=America/New_York:20251203T160000
DTSTAMP:20260420T213438
CREATED:20251008T184328Z
LAST-MODIFIED:20251008T184328Z
UID:2515-1764748800-1764777600@acclaimedmobile.com
SUMMARY:COBANC Supreme Court
DESCRIPTION:
URL:https://acclaimedmobile.com/event/cobanc-supreme-court-2/2025-12-03/
LOCATION:COBANC Supreme Court\, 100 Supreme Court Drive\, Mineola\, NY\, 11501\, United States
END:VEVENT
BEGIN:VEVENT
DTSTART;TZID=America/New_York:20251204T080000
DTEND;TZID=America/New_York:20251204T160000
DTSTAMP:20260420T213438
CREATED:20251008T184441Z
LAST-MODIFIED:20251008T184506Z
UID:2518-1764835200-1764864000@acclaimedmobile.com
SUMMARY:COBANC County Court
DESCRIPTION:
URL:https://acclaimedmobile.com/event/cobanc-county-court-2/2025-12-04/
LOCATION:COBANC County Court\, 262 Old Country Rd\, Mineola\, NY\, 11501\, United States
END:VEVENT
BEGIN:VEVENT
DTSTART;TZID=America/New_York:20251205T080000
DTEND;TZID=America/New_York:20251205T160000
DTSTAMP:20260420T213438
CREATED:20251008T184627Z
LAST-MODIFIED:20251008T184627Z
UID:2521-1764921600-1764950400@acclaimedmobile.com
SUMMARY:COBANC District Court
DESCRIPTION:
URL:https://acclaimedmobile.com/event/cobanc-district-court-2/2025-12-05/
LOCATION:COBANC District Court\, 99 Main St\, Hempstead\, NY\, 11550\, United States
END:VEVENT
BEGIN:VEVENT
DTSTART;TZID=America/New_York:20251209T073000
DTEND;TZID=America/New_York:20251209T163000
DTSTAMP:20260420T213438
CREATED:20250923T183155Z
LAST-MODIFIED:20250923T183155Z
UID:2480-1765265400-1765297800@acclaimedmobile.com
SUMMARY:Mandalay Elementary
DESCRIPTION:
URL:https://acclaimedmobile.com/event/mandalay-elementary/
LOCATION:Wantagh SD Mandalay Elementary\, 2667 Bayview Avenue\, Wantagh\, NY\, 11793\, United States
END:VEVENT
BEGIN:VEVENT
DTSTART;TZID=America/New_York:20251210T073000
DTEND;TZID=America/New_York:20251210T163000
DTSTAMP:20260420T213438
CREATED:20250923T183244Z
LAST-MODIFIED:20250923T183244Z
UID:2482-1765351800-1765384200@acclaimedmobile.com
SUMMARY:Wantagh Elementary
DESCRIPTION:
URL:https://acclaimedmobile.com/event/wantagh-elementary-2/
LOCATION:Wantagh Elementary\, 1765 Beech Street\, Wantagh\, NY\, 11793\, United States
END:VEVENT
BEGIN:VEVENT
DTSTART;TZID=America/New_York:20251211T070000
DTEND;TZID=America/New_York:20251211T160000
DTSTAMP:20260420T213438
CREATED:20250923T183358Z
LAST-MODIFIED:20250923T183358Z
UID:2484-1765436400-1765468800@acclaimedmobile.com
SUMMARY:Wantagh HS/MS
DESCRIPTION:
URL:https://acclaimedmobile.com/event/wantagh-hs-ms/2025-12-11/
LOCATION:Wantagh HS/MS/CO\, 3297 BELTAGH AVENUE\, Wantagh\, NY\, 11793\, United States
END:VEVENT
BEGIN:VEVENT
DTSTART;TZID=America/New_York:20251216T080000
DTEND;TZID=America/New_York:20251216T160000
DTSTAMP:20260420T213438
CREATED:20251008T184156Z
LAST-MODIFIED:20251008T184156Z
UID:2514-1765872000-1765900800@acclaimedmobile.com
SUMMARY:COBANC Family Court
DESCRIPTION:
URL:https://acclaimedmobile.com/event/cobanc-family-court-2/2025-12-16/
LOCATION:COBANC Family Court\, 101 County Seat Drive\, Mineola\, NY\, 11501\, United States
END:VEVENT
BEGIN:VEVENT
DTSTART;TZID=America/New_York:20251218T080000
DTEND;TZID=America/New_York:20251218T160000
DTSTAMP:20260420T213438
CREATED:20250107T210842Z
LAST-MODIFIED:20250107T210842Z
UID:2246-1766044800-1766073600@acclaimedmobile.com
SUMMARY:NASSAU COUNTY DSS
DESCRIPTION:
URL:https://acclaimedmobile.com/event/nassau-county-dss/2025-12-18/
LOCATION:DSS Nassau County\, 60 Charles Lingbergh Blvd\, Garden City\, NY\, 11530\, United States
END:VEVENT
BEGIN:VEVENT
DTSTART;TZID=America/New_York:20251219T080000
DTEND;TZID=America/New_York:20251219T160000
DTSTAMP:20260420T213438
CREATED:20251008T184441Z
LAST-MODIFIED:20251008T184441Z
UID:2520-1766131200-1766160000@acclaimedmobile.com
SUMMARY:COBANC County Court
DESCRIPTION:
URL:https://acclaimedmobile.com/event/cobanc-county-court-2/2025-12-19/
LOCATION:COBANC County Court\, 262 Old Country Rd\, Mineola\, NY\, 11501\, United States
END:VEVENT
END:VCALENDAR