BEGIN:VCALENDAR
VERSION:2.0
PRODID:-//Acclaimed Mobile Health - ECPv6.15.20//NONSGML v1.0//EN
CALSCALE:GREGORIAN
METHOD:PUBLISH
X-WR-CALNAME:Acclaimed Mobile Health
X-ORIGINAL-URL:https://acclaimedmobile.com
X-WR-CALDESC:Events for Acclaimed Mobile Health
REFRESH-INTERVAL;VALUE=DURATION:PT1H
X-Robots-Tag:noindex
X-PUBLISHED-TTL:PT1H
BEGIN:VTIMEZONE
TZID:America/New_York
BEGIN:DAYLIGHT
TZOFFSETFROM:-0500
TZOFFSETTO:-0400
TZNAME:EDT
DTSTART:20240310T070000
END:DAYLIGHT
BEGIN:STANDARD
TZOFFSETFROM:-0400
TZOFFSETTO:-0500
TZNAME:EST
DTSTART:20241103T060000
END:STANDARD
BEGIN:DAYLIGHT
TZOFFSETFROM:-0500
TZOFFSETTO:-0400
TZNAME:EDT
DTSTART:20250309T070000
END:DAYLIGHT
BEGIN:STANDARD
TZOFFSETFROM:-0400
TZOFFSETTO:-0500
TZNAME:EST
DTSTART:20251102T060000
END:STANDARD
BEGIN:DAYLIGHT
TZOFFSETFROM:-0500
TZOFFSETTO:-0400
TZNAME:EDT
DTSTART:20260308T070000
END:DAYLIGHT
BEGIN:STANDARD
TZOFFSETFROM:-0400
TZOFFSETTO:-0500
TZNAME:EST
DTSTART:20261101T060000
END:STANDARD
END:VTIMEZONE
BEGIN:VEVENT
DTSTART;TZID=America/New_York:20250716T080000
DTEND;TZID=America/New_York:20250716T160000
DTSTAMP:20260421T071535
CREATED:20250401T133837Z
LAST-MODIFIED:20250401T133837Z
UID:2357-1752652800-1752681600@acclaimedmobile.com
SUMMARY:Longwood Central Office
DESCRIPTION:
URL:https://acclaimedmobile.com/event/longwood-central-office/
LOCATION:Longwood SD Central Office/Middle School\, 35 Yaphank Middle Island Rd\, Middle Island\, NY\, 11953\, United States
END:VEVENT
BEGIN:VEVENT
DTSTART;TZID=America/New_York:20250717T080000
DTEND;TZID=America/New_York:20250717T160000
DTSTAMP:20260421T071535
CREATED:20250401T172219Z
LAST-MODIFIED:20250401T172219Z
UID:2359-1752739200-1752768000@acclaimedmobile.com
SUMMARY:OPWDD/LIDDSO 45 Mall Drive
DESCRIPTION:
URL:https://acclaimedmobile.com/event/opwdd-liddso-45-mall-drive-2/
LOCATION:OPWDD / LIDDSO COMMACK\, 45 Mall Drive\, COMMACK\, NY\, 11725\, United States
END:VEVENT
BEGIN:VEVENT
DTSTART;TZID=America/New_York:20250723T080000
DTEND;TZID=America/New_York:20250723T113000
DTSTAMP:20260421T071535
CREATED:20250604T151941Z
LAST-MODIFIED:20250604T151941Z
UID:2375-1753257600-1753270200@acclaimedmobile.com
SUMMARY:OPWDD - Willowbrook Rd\, Staten Island
DESCRIPTION:
URL:https://acclaimedmobile.com/event/opwdd-willowbrook-rd-staten-island/
LOCATION:OPWDD – Willowbrook Rd\, Staten Island\, 930 Willowbrook Rd\, Staten Island\, NY\, 10314\, United States
END:VEVENT
BEGIN:VEVENT
DTSTART;TZID=America/New_York:20250723T130000
DTEND;TZID=America/New_York:20250723T170000
DTSTAMP:20260421T071535
CREATED:20250604T152057Z
LAST-MODIFIED:20250604T152057Z
UID:2377-1753275600-1753290000@acclaimedmobile.com
SUMMARY:OPWDD - Forest Hill Road\, Staten Island
DESCRIPTION:
URL:https://acclaimedmobile.com/event/opwdd-forest-hill-road-staten-island/
LOCATION:OPWDD – Forest Hill Road\, Staten Island\, 1150 Forest Hill Rd\, Staten Island\, NY\, 10314\, United States
END:VEVENT
BEGIN:VEVENT
DTSTART;TZID=America/New_York:20250724T100000
DTEND;TZID=America/New_York:20250724T180000
DTSTAMP:20260421T071535
CREATED:20250331T131132Z
LAST-MODIFIED:20250331T131132Z
UID:2338-1753351200-1753380000@acclaimedmobile.com
SUMMARY:Lynbrook Volunteer Fire Department
DESCRIPTION:
URL:https://acclaimedmobile.com/event/lynbrook-volunteer-fire-department-2/
LOCATION:Lynbrook Fire Department\, 81 Wright Ave\, Lynbrook\, NY\, 11563\, United States
END:VEVENT
BEGIN:VEVENT
DTSTART;TZID=America/New_York:20250730T070000
DTEND;TZID=America/New_York:20250730T150000
DTSTAMP:20260421T071535
CREATED:20250604T162012Z
LAST-MODIFIED:20250604T162012Z
UID:2379-1753858800-1753887600@acclaimedmobile.com
SUMMARY:OPWDD - Brooklyn
DESCRIPTION:
URL:https://acclaimedmobile.com/event/opwdd-brooklyn-3/
LOCATION:OPWDD – Brooklyn\, 750 Vandalia Ave\, Brooklyn\, NY\, 11207\, United States
END:VEVENT
END:VCALENDAR