BEGIN:VCALENDAR
VERSION:2.0
PRODID:-//Acclaimed Mobile Health - ECPv6.15.20//NONSGML v1.0//EN
CALSCALE:GREGORIAN
METHOD:PUBLISH
X-WR-CALNAME:Acclaimed Mobile Health
X-ORIGINAL-URL:https://acclaimedmobile.com
X-WR-CALDESC:Events for Acclaimed Mobile Health
REFRESH-INTERVAL;VALUE=DURATION:PT1H
X-Robots-Tag:noindex
X-PUBLISHED-TTL:PT1H
BEGIN:VTIMEZONE
TZID:America/New_York
BEGIN:DAYLIGHT
TZOFFSETFROM:-0500
TZOFFSETTO:-0400
TZNAME:EDT
DTSTART:20240310T070000
END:DAYLIGHT
BEGIN:STANDARD
TZOFFSETFROM:-0400
TZOFFSETTO:-0500
TZNAME:EST
DTSTART:20241103T060000
END:STANDARD
BEGIN:DAYLIGHT
TZOFFSETFROM:-0500
TZOFFSETTO:-0400
TZNAME:EDT
DTSTART:20250309T070000
END:DAYLIGHT
BEGIN:STANDARD
TZOFFSETFROM:-0400
TZOFFSETTO:-0500
TZNAME:EST
DTSTART:20251102T060000
END:STANDARD
BEGIN:DAYLIGHT
TZOFFSETFROM:-0500
TZOFFSETTO:-0400
TZNAME:EDT
DTSTART:20260308T070000
END:DAYLIGHT
BEGIN:STANDARD
TZOFFSETFROM:-0400
TZOFFSETTO:-0500
TZNAME:EST
DTSTART:20261101T060000
END:STANDARD
END:VTIMEZONE
BEGIN:VEVENT
DTSTART;TZID=America/New_York:20250602T080000
DTEND;TZID=America/New_York:20250602T160000
DTSTAMP:20260421T090543
CREATED:20250401T180710Z
LAST-MODIFIED:20250401T180710Z
UID:2363-1748851200-1748880000@acclaimedmobile.com
SUMMARY:Smithtown School Central Office
DESCRIPTION:
URL:https://acclaimedmobile.com/event/smithtown-school-central-office/
LOCATION:Smithtown SD Offices\, 26 New York Avenue\, Smithtown\, NY\, 11787\, United States
END:VEVENT
BEGIN:VEVENT
DTSTART;TZID=America/New_York:20250603T080000
DTEND;TZID=America/New_York:20250603T160000
DTSTAMP:20260421T090543
CREATED:20250117T145237Z
LAST-MODIFIED:20250117T145304Z
UID:2264-1748937600-1748966400@acclaimedmobile.com
SUMMARY:SACHEM DISTRICT OFFICE
DESCRIPTION:
URL:https://acclaimedmobile.com/event/sachem-district-office/
LOCATION:SACHEM DISTRICT OFFICE\, 51 School St\, Lake Ronkonkoma\, NY\, 11779\, United States
END:VEVENT
BEGIN:VEVENT
DTSTART;TZID=America/New_York:20250605T080000
DTEND;TZID=America/New_York:20250605T160000
DTSTAMP:20260421T090543
CREATED:20250310T161155Z
LAST-MODIFIED:20250310T161155Z
UID:2328-1749110400-1749139200@acclaimedmobile.com
SUMMARY:Hampton Bays MS/Elementary
DESCRIPTION:
URL:https://acclaimedmobile.com/event/hampton-bays-ms-elementary/2025-06-05/
LOCATION:Hampton Bays Middle School/Elementary\, 70 Ponquogue Ave\, Hampton Bays\, NY\, 11946\, United States
END:VEVENT
BEGIN:VEVENT
DTSTART;TZID=America/New_York:20250606T070000
DTEND;TZID=America/New_York:20250606T150000
DTSTAMP:20260421T090543
CREATED:20250310T161155Z
LAST-MODIFIED:20250310T161155Z
UID:2329-1749193200-1749222000@acclaimedmobile.com
SUMMARY:Hampton Bays MS/Elementary
DESCRIPTION:
URL:https://acclaimedmobile.com/event/hampton-bays-ms-elementary/2025-06-06/
LOCATION:Hampton Bays Middle School/Elementary\, 70 Ponquogue Ave\, Hampton Bays\, NY\, 11946\, United States
END:VEVENT
BEGIN:VEVENT
DTSTART;TZID=America/New_York:20250610T144000
DTEND;TZID=America/New_York:20250610T200000
DTSTAMP:20260421T090543
CREATED:20250310T152119Z
LAST-MODIFIED:20250310T152119Z
UID:2326-1749566400-1749585600@acclaimedmobile.com
SUMMARY:Nassau BOCES RMKC Center
DESCRIPTION:
URL:https://acclaimedmobile.com/event/nassau-boces-rmkc-center/2025-06-10/
LOCATION:Nassau Boces – Rosemary Kennedy Center\, 2850 N Jerusalem Rd\, Wantagh\, NY\, 11793\, United States
END:VEVENT
BEGIN:VEVENT
DTSTART;TZID=America/New_York:20250612T070000
DTEND;TZID=America/New_York:20250612T160000
DTSTAMP:20260421T090543
CREATED:20250401T132348Z
LAST-MODIFIED:20250401T132348Z
UID:2344-1749711600-1749744000@acclaimedmobile.com
SUMMARY:Longwood High School
DESCRIPTION:
URL:https://acclaimedmobile.com/event/longwood-high-school-4/2025-06-12/
LOCATION:Longwood SD High School\, 100 County Rte 24\, Middle Island\, NY\, 11953\, United States
END:VEVENT
BEGIN:VEVENT
DTSTART;TZID=America/New_York:20250613T080000
DTEND;TZID=America/New_York:20250613T160000
DTSTAMP:20260421T090543
CREATED:20250401T132504Z
LAST-MODIFIED:20250401T132504Z
UID:2347-1749801600-1749830400@acclaimedmobile.com
SUMMARY:Longwood Coram Elementary
DESCRIPTION:
URL:https://acclaimedmobile.com/event/longwood-coram-elementary-2/
LOCATION:Longwood SD Coram Elementary\, 61 Coram Mount Sinai Road\, Coram\, NY\, 11727\, United States
END:VEVENT
BEGIN:VEVENT
DTSTART;TZID=America/New_York:20250616T070000
DTEND;TZID=America/New_York:20250616T153000
DTSTAMP:20260421T090543
CREATED:20250401T133251Z
LAST-MODIFIED:20250401T133251Z
UID:2349-1750057200-1750087800@acclaimedmobile.com
SUMMARY:Longwood JHS
DESCRIPTION:
URL:https://acclaimedmobile.com/event/longwood-jhs/
LOCATION:Longwood SD Junior High School\, 198 Longwood Rd\, Middle Island\, NY\, 11953\, United States
END:VEVENT
BEGIN:VEVENT
DTSTART;TZID=America/New_York:20250617T080000
DTEND;TZID=America/New_York:20250617T160000
DTSTAMP:20260421T090543
CREATED:20250401T133358Z
LAST-MODIFIED:20250401T133358Z
UID:2351-1750147200-1750176000@acclaimedmobile.com
SUMMARY:Longwood Ridge Elementary
DESCRIPTION:
URL:https://acclaimedmobile.com/event/longwood-ridge-elementary-2/
LOCATION:Longwood SD Ridge Elementary\, 105 Ridge Rd\, Ridge\, NY\, 11961\, United States
END:VEVENT
BEGIN:VEVENT
DTSTART;TZID=America/New_York:20250618T073000
DTEND;TZID=America/New_York:20250618T160000
DTSTAMP:20260421T090543
CREATED:20250401T133531Z
LAST-MODIFIED:20250401T134006Z
UID:2353-1750231800-1750262400@acclaimedmobile.com
SUMMARY:Longwood Middle School
DESCRIPTION:
URL:https://acclaimedmobile.com/event/longwood-middle-school/
LOCATION:Longwood SD Central Office/Middle School\, 35 Yaphank Middle Island Rd\, Middle Island\, NY\, 11953\, United States
END:VEVENT
BEGIN:VEVENT
DTSTART;TZID=America/New_York:20250620T070000
DTEND;TZID=America/New_York:20250620T160000
DTSTAMP:20260421T090543
CREATED:20250401T132348Z
LAST-MODIFIED:20250401T132348Z
UID:2345-1750402800-1750435200@acclaimedmobile.com
SUMMARY:Longwood High School
DESCRIPTION:
URL:https://acclaimedmobile.com/event/longwood-high-school-4/2025-06-20/
LOCATION:Longwood SD High School\, 100 County Rte 24\, Middle Island\, NY\, 11953\, United States
END:VEVENT
BEGIN:VEVENT
DTSTART;TZID=America/New_York:20250623T080000
DTEND;TZID=America/New_York:20250623T160000
DTSTAMP:20260421T090543
CREATED:20250401T133656Z
LAST-MODIFIED:20250401T133656Z
UID:2355-1750665600-1750694400@acclaimedmobile.com
SUMMARY:Longwood Charles E. Walters Elementary
DESCRIPTION:
URL:https://acclaimedmobile.com/event/longwood-charles-e-walters-elementary/
LOCATION:Longwood SD CEW Elementary\, 15 Everett Drive\, Yaphank\, NY\, 11980\, United States
END:VEVENT
BEGIN:VEVENT
DTSTART;TZID=America/New_York:20250624T060000
DTEND;TZID=America/New_York:20250624T150000
DTSTAMP:20260421T090543
CREATED:20250428T195603Z
LAST-MODIFIED:20250516T150258Z
UID:2368-1750744800-1750777200@acclaimedmobile.com
SUMMARY:Connetquot High School
DESCRIPTION:
URL:https://acclaimedmobile.com/event/connetquot-high-school/2025-06-24/
LOCATION:Connetquot High School\, 190 7th Street\, Bohemia\, NY\, 11716\, United States
END:VEVENT
BEGIN:VEVENT
DTSTART;TZID=America/New_York:20250630T080000
DTEND;TZID=America/New_York:20250630T160000
DTSTAMP:20260421T090543
CREATED:20250107T210842Z
LAST-MODIFIED:20250107T210842Z
UID:2243-1751270400-1751299200@acclaimedmobile.com
SUMMARY:NASSAU COUNTY DSS
DESCRIPTION:
URL:https://acclaimedmobile.com/event/nassau-county-dss/2025-06-30/
LOCATION:DSS Nassau County\, 60 Charles Lingbergh Blvd\, Garden City\, NY\, 11530\, United States
END:VEVENT
END:VCALENDAR