BEGIN:VCALENDAR
VERSION:2.0
PRODID:-//Acclaimed Mobile Health - ECPv6.15.20//NONSGML v1.0//EN
CALSCALE:GREGORIAN
METHOD:PUBLISH
X-ORIGINAL-URL:https://acclaimedmobile.com
X-WR-CALDESC:Events for Acclaimed Mobile Health
REFRESH-INTERVAL;VALUE=DURATION:PT1H
X-Robots-Tag:noindex
X-PUBLISHED-TTL:PT1H
BEGIN:VTIMEZONE
TZID:America/New_York
BEGIN:DAYLIGHT
TZOFFSETFROM:-0500
TZOFFSETTO:-0400
TZNAME:EDT
DTSTART:20240310T070000
END:DAYLIGHT
BEGIN:STANDARD
TZOFFSETFROM:-0400
TZOFFSETTO:-0500
TZNAME:EST
DTSTART:20241103T060000
END:STANDARD
BEGIN:DAYLIGHT
TZOFFSETFROM:-0500
TZOFFSETTO:-0400
TZNAME:EDT
DTSTART:20250309T070000
END:DAYLIGHT
BEGIN:STANDARD
TZOFFSETFROM:-0400
TZOFFSETTO:-0500
TZNAME:EST
DTSTART:20251102T060000
END:STANDARD
BEGIN:DAYLIGHT
TZOFFSETFROM:-0500
TZOFFSETTO:-0400
TZNAME:EDT
DTSTART:20260308T070000
END:DAYLIGHT
BEGIN:STANDARD
TZOFFSETFROM:-0400
TZOFFSETTO:-0500
TZNAME:EST
DTSTART:20261101T060000
END:STANDARD
END:VTIMEZONE
BEGIN:VEVENT
DTSTART;TZID=America/New_York:20250501T080000
DTEND;TZID=America/New_York:20250501T160000
DTSTAMP:20260421T105238
CREATED:20241217T193509Z
LAST-MODIFIED:20241217T193509Z
UID:2226-1746086400-1746115200@acclaimedmobile.com
SUMMARY:SCSD Cayuga Elementary School
DESCRIPTION:
URL:https://acclaimedmobile.com/event/scsd-cayuga-elementary-school/
LOCATION:SCSD Cayuga Elementary School\, 865 Hawkins Avenue\, Lake Grove\, NY\, 11755\, United States
END:VEVENT
BEGIN:VEVENT
DTSTART;TZID=America/New_York:20250502T080000
DTEND;TZID=America/New_York:20250502T160000
DTSTAMP:20260421T105238
CREATED:20241217T193613Z
LAST-MODIFIED:20250409T162856Z
UID:2228-1746172800-1746201600@acclaimedmobile.com
SUMMARY:SCSD Waverly Ave Elementary School
DESCRIPTION:
URL:https://acclaimedmobile.com/event/scsd-waverly-ave-elementary-school/2025-05-02/
LOCATION:SCSD Waverly Ave Elementary School\, 1111 Waverly Avenue\, Holtsville\, NY\, 11742\, United States
END:VEVENT
BEGIN:VEVENT
DTSTART;TZID=America/New_York:20250505T080000
DTEND;TZID=America/New_York:20250505T160000
DTSTAMP:20260421T105238
CREATED:20250124T160003Z
LAST-MODIFIED:20250124T160003Z
UID:2289-1746432000-1746460800@acclaimedmobile.com
SUMMARY:Brentwood Laurel Park & Loretta Park
DESCRIPTION:
URL:https://acclaimedmobile.com/event/brentwood-laurel-park-loretta-park/
LOCATION:Laurel Park Elementary Brentwood SD\, 48 SWAN PL\, Brentwood\, NY\, 11717\, United States
END:VEVENT
BEGIN:VEVENT
DTSTART;TZID=America/New_York:20250507T080000
DTEND;TZID=America/New_York:20250507T160000
DTSTAMP:20260421T105238
CREATED:20241217T193720Z
LAST-MODIFIED:20241217T193720Z
UID:2230-1746604800-1746633600@acclaimedmobile.com
SUMMARY:SCSD Wenonah Elementary School
DESCRIPTION:
URL:https://acclaimedmobile.com/event/scsd-wenonah-elementary-school/
LOCATION:SCSD Wenonah Elementary School\, 251 Hudson Ave\, Lake Grove\, NY\, 11755\, United States
END:VEVENT
BEGIN:VEVENT
DTSTART;TZID=America/New_York:20250508T073000
DTEND;TZID=America/New_York:20250508T153000
DTSTAMP:20260421T105238
CREATED:20241217T193834Z
LAST-MODIFIED:20241217T193834Z
UID:2232-1746689400-1746718200@acclaimedmobile.com
SUMMARY:SCSD Nokomis Elementary School
DESCRIPTION:
URL:https://acclaimedmobile.com/event/scsd-nokomis-elementary-school/
LOCATION:SCSD Nokomis Elementary School\, 151 Holbrook Road\, Holbrook\, NY\, 11741\, United States
END:VEVENT
BEGIN:VEVENT
DTSTART;TZID=America/New_York:20250509T070000
DTEND;TZID=America/New_York:20250509T152000
DTSTAMP:20260421T105238
CREATED:20241217T193950Z
LAST-MODIFIED:20241217T193950Z
UID:2234-1746774000-1746804000@acclaimedmobile.com
SUMMARY:SCSD Samoset Middle School
DESCRIPTION:
URL:https://acclaimedmobile.com/event/scsd-samoset-middle-school/
LOCATION:SCSD Samoset Middle School\, 51 School St\, Lake Ronkonkoma\, NY\, 11779\, United States
END:VEVENT
BEGIN:VEVENT
DTSTART;TZID=America/New_York:20250512T080000
DTEND;TZID=America/New_York:20250512T170000
DTSTAMP:20260421T105238
CREATED:20250124T160135Z
LAST-MODIFIED:20250124T160135Z
UID:2291-1747036800-1747069200@acclaimedmobile.com
SUMMARY:Brentwood Pine Park & Twin Pines
DESCRIPTION:
URL:https://acclaimedmobile.com/event/brentwood-pine-park-twin-pines/
LOCATION:Pine Park Elementary Brentwood SD\, 1 MUR PL\, Brentwood\, NY\, 11717\, United States
END:VEVENT
BEGIN:VEVENT
DTSTART;TZID=America/New_York:20250519T080000
DTEND;TZID=America/New_York:20250519T160000
DTSTAMP:20260421T105238
CREATED:20250124T160322Z
LAST-MODIFIED:20250124T160322Z
UID:2293-1747641600-1747670400@acclaimedmobile.com
SUMMARY:Brentwood Hemlock Park Elementary
DESCRIPTION:
URL:https://acclaimedmobile.com/event/brentwood-hemlock-park-elementary/
LOCATION:Hemlock Park Elementary Brentwood SD\, 19 HEMLOCK DR\, Brentwood\, NY\, United States
END:VEVENT
BEGIN:VEVENT
DTSTART;TZID=America/New_York:20250520T070000
DTEND;TZID=America/New_York:20250520T150000
DTSTAMP:20260421T105238
CREATED:20250124T154638Z
LAST-MODIFIED:20250319T155455Z
UID:2271-1747724400-1747753200@acclaimedmobile.com
SUMMARY:Brentwood High School
DESCRIPTION:
URL:https://acclaimedmobile.com/event/brentwood-high-school-2/2025-05-20/
LOCATION:Brentwood High School\, 2 Sixth Ave.\, Brentwood\, NY\, 11717\, United States
END:VEVENT
BEGIN:VEVENT
DTSTART;TZID=America/New_York:20250527T072000
DTEND;TZID=America/New_York:20250527T150000
DTSTAMP:20260421T105238
CREATED:20241217T192603Z
LAST-MODIFIED:20241217T192603Z
UID:2331-1748330400-1748358000@acclaimedmobile.com
SUMMARY:SCSD Hiawatha Elementary School
DESCRIPTION:
URL:https://acclaimedmobile.com/event/scsd-hiawatha-elementary-school/2025-05-27/
LOCATION:SCSD Hiawatha Elementary School\, 97 Patchogue Holbrook Rd\, Lake Ronkonkoma\, NY\, 11779\, United States
END:VEVENT
BEGIN:VEVENT
DTSTART;TZID=America/New_York:20250531T080000
DTEND;TZID=America/New_York:20250531T160000
DTSTAMP:20260421T105238
CREATED:20250310T152119Z
LAST-MODIFIED:20250310T152119Z
UID:2325-1748678400-1748707200@acclaimedmobile.com
SUMMARY:Nassau BOCES RMKC Center
DESCRIPTION:
URL:https://acclaimedmobile.com/event/nassau-boces-rmkc-center/2025-05-31/
LOCATION:Nassau Boces – Rosemary Kennedy Center\, 2850 N Jerusalem Rd\, Wantagh\, NY\, 11793\, United States
END:VEVENT
END:VCALENDAR