BEGIN:VCALENDAR
VERSION:2.0
PRODID:-//Acclaimed Mobile Health - ECPv6.15.20//NONSGML v1.0//EN
CALSCALE:GREGORIAN
METHOD:PUBLISH
X-WR-CALNAME:Acclaimed Mobile Health
X-ORIGINAL-URL:https://acclaimedmobile.com
X-WR-CALDESC:Events for Acclaimed Mobile Health
REFRESH-INTERVAL;VALUE=DURATION:PT1H
X-Robots-Tag:noindex
X-PUBLISHED-TTL:PT1H
BEGIN:VTIMEZONE
TZID:America/New_York
BEGIN:DAYLIGHT
TZOFFSETFROM:-0500
TZOFFSETTO:-0400
TZNAME:EDT
DTSTART:20230312T070000
END:DAYLIGHT
BEGIN:STANDARD
TZOFFSETFROM:-0400
TZOFFSETTO:-0500
TZNAME:EST
DTSTART:20231105T060000
END:STANDARD
BEGIN:DAYLIGHT
TZOFFSETFROM:-0500
TZOFFSETTO:-0400
TZNAME:EDT
DTSTART:20240310T070000
END:DAYLIGHT
BEGIN:STANDARD
TZOFFSETFROM:-0400
TZOFFSETTO:-0500
TZNAME:EST
DTSTART:20241103T060000
END:STANDARD
BEGIN:DAYLIGHT
TZOFFSETFROM:-0500
TZOFFSETTO:-0400
TZNAME:EDT
DTSTART:20250309T070000
END:DAYLIGHT
BEGIN:STANDARD
TZOFFSETFROM:-0400
TZOFFSETTO:-0500
TZNAME:EST
DTSTART:20251102T060000
END:STANDARD
END:VTIMEZONE
BEGIN:VEVENT
DTSTART;TZID=America/New_York:20241202T080000
DTEND;TZID=America/New_York:20241202T160000
DTSTAMP:20260421T193436
CREATED:20241104T153459Z
LAST-MODIFIED:20241104T153459Z
UID:2101-1733126400-1733155200@acclaimedmobile.com
SUMMARY:COBANC Family Court
DESCRIPTION:
URL:https://acclaimedmobile.com/event/cobanc-family-court/2024-12-02/
LOCATION:COBANC Family Court\, 101 County Seat Drive\, Mineola\, NY\, 11501\, United States
END:VEVENT
BEGIN:VEVENT
DTSTART;TZID=America/New_York:20241203T073000
DTEND;TZID=America/New_York:20241203T163000
DTSTAMP:20260421T193436
CREATED:20241025T171946Z
LAST-MODIFIED:20241025T171946Z
UID:2072-1733211000-1733243400@acclaimedmobile.com
SUMMARY:Wantagh Elementary School
DESCRIPTION:
URL:https://acclaimedmobile.com/event/wantagh-elementary-school/
LOCATION:Wantagh Elementary\, 1765 Beech Street\, Wantagh\, NY\, 11793\, United States
END:VEVENT
BEGIN:VEVENT
DTSTART;TZID=America/New_York:20241204T073000
DTEND;TZID=America/New_York:20241204T163000
DTSTAMP:20260421T193436
CREATED:20241025T172044Z
LAST-MODIFIED:20241025T172044Z
UID:2074-1733297400-1733329800@acclaimedmobile.com
SUMMARY:Wantagh SD Forest Lake Elementary
DESCRIPTION:
URL:https://acclaimedmobile.com/event/wantagh-sd-forest-lake-elementary-2/
LOCATION:Wantagh SD Forest Lake Elementary\, 3100 Beltagh Avenue\, Wantagh\, NY\, 11793\, United States
END:VEVENT
BEGIN:VEVENT
DTSTART;TZID=America/New_York:20241205T070000
DTEND;TZID=America/New_York:20241205T160000
DTSTAMP:20260421T193436
CREATED:20241025T172238Z
LAST-MODIFIED:20241025T172238Z
UID:2076-1733382000-1733414400@acclaimedmobile.com
SUMMARY:Wantagh Secondary Complex
DESCRIPTION:
URL:https://acclaimedmobile.com/event/wantagh-secondary-complex/2024-12-05/
LOCATION:Wantagh HS/MS/CO\, 3297 BELTAGH AVENUE\, Wantagh\, NY\, 11793\, United States
END:VEVENT
BEGIN:VEVENT
DTSTART;TZID=America/New_York:20241206T070000
DTEND;TZID=America/New_York:20241206T160000
DTSTAMP:20260421T193436
CREATED:20241025T172238Z
LAST-MODIFIED:20241025T172238Z
UID:2077-1733468400-1733500800@acclaimedmobile.com
SUMMARY:Wantagh Secondary Complex
DESCRIPTION:
URL:https://acclaimedmobile.com/event/wantagh-secondary-complex/2024-12-06/
LOCATION:Wantagh HS/MS/CO\, 3297 BELTAGH AVENUE\, Wantagh\, NY\, 11793\, United States
END:VEVENT
BEGIN:VEVENT
DTSTART;TZID=America/New_York:20241209T073000
DTEND;TZID=America/New_York:20241209T163000
DTSTAMP:20260421T193436
CREATED:20241119T154107Z
LAST-MODIFIED:20241119T154107Z
UID:2140-1733729400-1733761800@acclaimedmobile.com
SUMMARY:Wantagh SD Mandalay Elementary
DESCRIPTION:
URL:https://acclaimedmobile.com/event/wantagh-sd-mandalay-elementary-2/
LOCATION:Wantagh SD Mandalay Elementary\, 2667 Bayview Avenue\, Wantagh\, NY\, 11793\, United States
END:VEVENT
BEGIN:VEVENT
DTSTART;TZID=America/New_York:20241210T120000
DTEND;TZID=America/New_York:20241210T200000
DTSTAMP:20260421T193436
CREATED:20241025T202643Z
LAST-MODIFIED:20241025T202643Z
UID:2086-1733832000-1733860800@acclaimedmobile.com
SUMMARY:Yaphank Clinic
DESCRIPTION:
URL:https://acclaimedmobile.com/event/yaphank-clinic-2/
LOCATION:Yaphank Clinic\, 31 Industrial Blvd\, Medford\, NY\, 11763\, United States
END:VEVENT
BEGIN:VEVENT
DTSTART;TZID=America/New_York:20241211T080000
DTEND;TZID=America/New_York:20241211T160000
DTSTAMP:20260421T193436
CREATED:20241126T222625Z
LAST-MODIFIED:20241126T222625Z
UID:2167-1733904000-1733932800@acclaimedmobile.com
SUMMARY:OPWDD BROOKLYN
DESCRIPTION:
URL:https://acclaimedmobile.com/event/opwdd-brooklyn-2/
LOCATION:OPWDD – Brooklyn\, 750 Vandalia Ave\, Brooklyn\, NY\, 11207\, United States
END:VEVENT
BEGIN:VEVENT
DTSTART;TZID=America/New_York:20241212T080000
DTEND;TZID=America/New_York:20241212T160000
DTSTAMP:20260421T193436
CREATED:20241107T162116Z
LAST-MODIFIED:20241107T162116Z
UID:2115-1733990400-1734019200@acclaimedmobile.com
SUMMARY:OPWDD MANHATTAN
DESCRIPTION:
URL:https://acclaimedmobile.com/event/opwdd-manhattan/
LOCATION:OPWDD MANHATTAN\, 25 BEAVER ST\, NEW YORK\, NY\, 10004\, United States
END:VEVENT
BEGIN:VEVENT
DTSTART;TZID=America/New_York:20241216T080000
DTEND;TZID=America/New_York:20241216T160000
DTSTAMP:20260421T193436
CREATED:20241104T153633Z
LAST-MODIFIED:20241104T153633Z
UID:2105-1734336000-1734364800@acclaimedmobile.com
SUMMARY:COBANC Supreme Court
DESCRIPTION:
URL:https://acclaimedmobile.com/event/cobanc-supreme-court/2024-12-16/
LOCATION:COBANC Supreme Court\, 100 Supreme Court Drive\, Mineola\, NY\, 11501\, United States
END:VEVENT
BEGIN:VEVENT
DTSTART;TZID=America/New_York:20241217T100000
DTEND;TZID=America/New_York:20241217T180000
DTSTAMP:20260421T193436
CREATED:20241025T203131Z
LAST-MODIFIED:20241025T203131Z
UID:2090-1734429600-1734458400@acclaimedmobile.com
SUMMARY:Office of Temporary and Disability Assistance (OTDA)
DESCRIPTION:
URL:https://acclaimedmobile.com/event/office-of-temporary-and-disability-assistance-otda/
LOCATION:Office of Temporary and Disability Assistance (OTDA)\, 317 Lenox Avenue\, New York\, NY\, 10027\, United States
END:VEVENT
BEGIN:VEVENT
DTSTART;TZID=America/New_York:20241218T120000
DTEND;TZID=America/New_York:20241218T200000
DTSTAMP:20260421T193436
CREATED:20241119T154657Z
LAST-MODIFIED:20241119T154657Z
UID:2142-1734523200-1734552000@acclaimedmobile.com
SUMMARY:NYPD PSA 8
DESCRIPTION:
URL:https://acclaimedmobile.com/event/nypd-psa-8-3/
LOCATION:NYPD PSA 8\, 2794 RANDALL AVE\, BRONX\, 10465
END:VEVENT
BEGIN:VEVENT
DTSTART;TZID=America/New_York:20241219T080000
DTEND;TZID=America/New_York:20241219T160000
DTSTAMP:20260421T193436
CREATED:20241104T153841Z
LAST-MODIFIED:20241104T153841Z
UID:2108-1734595200-1734624000@acclaimedmobile.com
SUMMARY:COBANC County Court
DESCRIPTION:
URL:https://acclaimedmobile.com/event/cobanc-county-court/2024-12-19/
LOCATION:COBANC County Court\, 262 Old Country Rd\, Mineola\, NY\, 11501\, United States
END:VEVENT
BEGIN:VEVENT
DTSTART;TZID=America/New_York:20241220T080000
DTEND;TZID=America/New_York:20241220T160000
DTSTAMP:20260421T193437
CREATED:20241104T154101Z
LAST-MODIFIED:20241104T154101Z
UID:2111-1734681600-1734710400@acclaimedmobile.com
SUMMARY:COBANC District Court
DESCRIPTION:
URL:https://acclaimedmobile.com/event/cobanc-district-court/2024-12-20/
LOCATION:COBANC District Court\, 99 Main St\, Hempstead\, NY\, 11550\, United States
END:VEVENT
END:VCALENDAR