BEGIN:VCALENDAR
VERSION:2.0
PRODID:-//Acclaimed Mobile Health - ECPv6.15.20//NONSGML v1.0//EN
CALSCALE:GREGORIAN
METHOD:PUBLISH
X-WR-CALNAME:Acclaimed Mobile Health
X-ORIGINAL-URL:https://acclaimedmobile.com
X-WR-CALDESC:Events for Acclaimed Mobile Health
REFRESH-INTERVAL;VALUE=DURATION:PT1H
X-Robots-Tag:noindex
X-PUBLISHED-TTL:PT1H
BEGIN:VTIMEZONE
TZID:America/New_York
BEGIN:DAYLIGHT
TZOFFSETFROM:-0500
TZOFFSETTO:-0400
TZNAME:EDT
DTSTART:20230312T070000
END:DAYLIGHT
BEGIN:STANDARD
TZOFFSETFROM:-0400
TZOFFSETTO:-0500
TZNAME:EST
DTSTART:20231105T060000
END:STANDARD
BEGIN:DAYLIGHT
TZOFFSETFROM:-0500
TZOFFSETTO:-0400
TZNAME:EDT
DTSTART:20240310T070000
END:DAYLIGHT
BEGIN:STANDARD
TZOFFSETFROM:-0400
TZOFFSETTO:-0500
TZNAME:EST
DTSTART:20241103T060000
END:STANDARD
BEGIN:DAYLIGHT
TZOFFSETFROM:-0500
TZOFFSETTO:-0400
TZNAME:EDT
DTSTART:20250309T070000
END:DAYLIGHT
BEGIN:STANDARD
TZOFFSETFROM:-0400
TZOFFSETTO:-0500
TZNAME:EST
DTSTART:20251102T060000
END:STANDARD
END:VTIMEZONE
BEGIN:VTIMEZONE
TZID:UTC
BEGIN:STANDARD
TZOFFSETFROM:+0000
TZOFFSETTO:+0000
TZNAME:UTC
DTSTART:20230101T000000
END:STANDARD
END:VTIMEZONE
BEGIN:VEVENT
DTSTART;TZID=America/New_York:20241105T070000
DTEND;TZID=America/New_York:20241105T150000
DTSTAMP:20260421T211820
CREATED:20241021T115352Z
LAST-MODIFIED:20241021T115828Z
UID:2062-1730790000-1730818800@acclaimedmobile.com
SUMMARY:Eastern Suffolk BOCES Sequoya High School
DESCRIPTION:
URL:https://acclaimedmobile.com/event/eastern-suffolk-boces-hotlsville/
LOCATION:EASTERN SUFFOLK BOCES HOLTSVILLE\, 750 Waverly Ave\, Holtsville\, NY\, 11742\, United States
END:VEVENT
BEGIN:VEVENT
DTSTART;TZID=America/New_York:20241113T080000
DTEND;TZID=America/New_York:20241113T160000
DTSTAMP:20260421T211820
CREATED:20240919T131928Z
LAST-MODIFIED:20240919T131928Z
UID:2052-1731484800-1731513600@acclaimedmobile.com
SUMMARY:DSS NASSAU COUNTY
DESCRIPTION:
URL:https://acclaimedmobile.com/event/dss-nassau-county-7/
LOCATION:DSS Nassau County\, 60 Charles Lingbergh Blvd\, Garden City\, NY\, 11530\, United States
END:VEVENT
BEGIN:VEVENT
DTSTART;TZID=America/New_York:20241114T080000
DTEND;TZID=America/New_York:20241114T160000
DTSTAMP:20260421T211820
CREATED:20241104T153459Z
LAST-MODIFIED:20241104T153459Z
UID:2100-1731571200-1731600000@acclaimedmobile.com
SUMMARY:COBANC Family Court
DESCRIPTION:
URL:https://acclaimedmobile.com/event/cobanc-family-court/2024-11-14/
LOCATION:COBANC Family Court\, 101 County Seat Drive\, Mineola\, NY\, 11501\, United States
END:VEVENT
BEGIN:VEVENT
DTSTART;TZID=America/New_York:20241118T060000
DTEND;TZID=America/New_York:20241118T150000
DTSTAMP:20260421T211820
CREATED:20241022T134047Z
LAST-MODIFIED:20241022T134047Z
UID:2068-1731909600-1731942000@acclaimedmobile.com
SUMMARY:NYPD 84TH PCT
DESCRIPTION:
URL:https://acclaimedmobile.com/event/nypd-84th-pct/2024-11-18/
LOCATION:NYPD 84TH PCT\, 130 LIVINGSTON ST\, BROOKLYN\, NY\, 11201\, United States
END:VEVENT
BEGIN:VEVENT
DTSTART;TZID=America/New_York:20241119T070000
DTEND;TZID=America/New_York:20241119T150000
DTSTAMP:20260421T211820
CREATED:20241022T134047Z
LAST-MODIFIED:20241022T134047Z
UID:2069-1731999600-1732028400@acclaimedmobile.com
SUMMARY:NYPD 84TH PCT
DESCRIPTION:
URL:https://acclaimedmobile.com/event/nypd-84th-pct/2024-11-19/
LOCATION:NYPD 84TH PCT\, 130 LIVINGSTON ST\, BROOKLYN\, NY\, 11201\, United States
END:VEVENT
BEGIN:VEVENT
DTSTART;TZID=America/New_York:20241120T080000
DTEND;TZID=America/New_York:20241120T160000
DTSTAMP:20260421T211820
CREATED:20241104T153633Z
LAST-MODIFIED:20241104T153633Z
UID:2104-1732089600-1732118400@acclaimedmobile.com
SUMMARY:COBANC Supreme Court
DESCRIPTION:
URL:https://acclaimedmobile.com/event/cobanc-supreme-court/2024-11-20/
LOCATION:COBANC Supreme Court\, 100 Supreme Court Drive\, Mineola\, NY\, 11501\, United States
END:VEVENT
BEGIN:VEVENT
DTSTART;TZID=UTC:20241121T080000
DTEND;TZID=UTC:20241121T160000
DTSTAMP:20260421T211820
CREATED:20241021T142514Z
LAST-MODIFIED:20241021T142514Z
UID:2066-1732176000-1732204800@acclaimedmobile.com
SUMMARY:Bernard Fineson Center - DDSO
DESCRIPTION:
URL:https://acclaimedmobile.com/event/bernard-fineson-center-ddso/
LOCATION:Bernard Fineson Center – DDSO\, 80-45 Winchester Blvd.\, Queens Village\, NY\, 11427\, United States
END:VEVENT
BEGIN:VEVENT
DTSTART;TZID=America/New_York:20241125T080000
DTEND;TZID=America/New_York:20241125T160000
DTSTAMP:20260421T211820
CREATED:20241104T153841Z
LAST-MODIFIED:20241104T153841Z
UID:2107-1732521600-1732550400@acclaimedmobile.com
SUMMARY:COBANC County Court
DESCRIPTION:
URL:https://acclaimedmobile.com/event/cobanc-county-court/2024-11-25/
LOCATION:COBANC County Court\, 262 Old Country Rd\, Mineola\, NY\, 11501\, United States
END:VEVENT
BEGIN:VEVENT
DTSTART;TZID=America/New_York:20241126T080000
DTEND;TZID=America/New_York:20241126T160000
DTSTAMP:20260421T211820
CREATED:20241104T154101Z
LAST-MODIFIED:20241104T154101Z
UID:2110-1732608000-1732636800@acclaimedmobile.com
SUMMARY:COBANC District Court
DESCRIPTION:
URL:https://acclaimedmobile.com/event/cobanc-district-court/2024-11-26/
LOCATION:COBANC District Court\, 99 Main St\, Hempstead\, NY\, 11550\, United States
END:VEVENT
END:VCALENDAR