BEGIN:VCALENDAR
VERSION:2.0
PRODID:-//Acclaimed Mobile Health - ECPv6.15.20//NONSGML v1.0//EN
CALSCALE:GREGORIAN
METHOD:PUBLISH
X-ORIGINAL-URL:https://acclaimedmobile.com
X-WR-CALDESC:Events for Acclaimed Mobile Health
REFRESH-INTERVAL;VALUE=DURATION:PT1H
X-Robots-Tag:noindex
X-PUBLISHED-TTL:PT1H
BEGIN:VTIMEZONE
TZID:America/New_York
BEGIN:DAYLIGHT
TZOFFSETFROM:-0500
TZOFFSETTO:-0400
TZNAME:EDT
DTSTART:20230312T070000
END:DAYLIGHT
BEGIN:STANDARD
TZOFFSETFROM:-0400
TZOFFSETTO:-0500
TZNAME:EST
DTSTART:20231105T060000
END:STANDARD
BEGIN:DAYLIGHT
TZOFFSETFROM:-0500
TZOFFSETTO:-0400
TZNAME:EDT
DTSTART:20240310T070000
END:DAYLIGHT
BEGIN:STANDARD
TZOFFSETFROM:-0400
TZOFFSETTO:-0500
TZNAME:EST
DTSTART:20241103T060000
END:STANDARD
BEGIN:DAYLIGHT
TZOFFSETFROM:-0500
TZOFFSETTO:-0400
TZNAME:EDT
DTSTART:20250309T070000
END:DAYLIGHT
BEGIN:STANDARD
TZOFFSETFROM:-0400
TZOFFSETTO:-0500
TZNAME:EST
DTSTART:20251102T060000
END:STANDARD
END:VTIMEZONE
BEGIN:VEVENT
DTSTART;TZID=America/New_York:20240909T080000
DTEND;TZID=America/New_York:20240909T160000
DTSTAMP:20260422T004613
CREATED:20240802T203333Z
LAST-MODIFIED:20240826T194646Z
UID:1986-1725868800-1725897600@acclaimedmobile.com
SUMMARY:BRONX SUPREME COURT
DESCRIPTION:
URL:https://acclaimedmobile.com/event/bronx-criminal-court/
LOCATION:BRONX CRIMINAL COURT\, 265 E 161ST STREET\, BRONX\, NY\, 10451\, United States
END:VEVENT
BEGIN:VEVENT
DTSTART;TZID=America/New_York:20240910T080000
DTEND;TZID=America/New_York:20240910T160000
DTSTAMP:20260422T004613
CREATED:20240828T145354Z
LAST-MODIFIED:20240828T145354Z
UID:2036-1725955200-1725984000@acclaimedmobile.com
SUMMARY:QUEENS CIVIL COURT
DESCRIPTION:
URL:https://acclaimedmobile.com/event/queens-civil-court-2/
LOCATION:QUEENS CIVIL COURT\, 100 Centre\, JAMAICA\, NY\, 11435\, United States
END:VEVENT
BEGIN:VEVENT
DTSTART;TZID=America/New_York:20240911T080000
DTEND;TZID=America/New_York:20240911T160000
DTSTAMP:20260422T004613
CREATED:20240806T134625Z
LAST-MODIFIED:20240806T134625Z
UID:2004-1726041600-1726070400@acclaimedmobile.com
SUMMARY:NYS DMV BETHPAGE
DESCRIPTION:
URL:https://acclaimedmobile.com/event/nys-dmv-bethpage/
LOCATION:NYS DMV BETHPAGE\, 4031 Hempstead Tpke\, Bethpage\, NY\, 11714\, United States
END:VEVENT
BEGIN:VEVENT
DTSTART;TZID=America/New_York:20240912T080000
DTEND;TZID=America/New_York:20240912T160000
DTSTAMP:20260422T004613
CREATED:20240806T134758Z
LAST-MODIFIED:20240806T134758Z
UID:2006-1726128000-1726156800@acclaimedmobile.com
SUMMARY:NYS DMV RIVERHEAD
DESCRIPTION:
URL:https://acclaimedmobile.com/event/nys-dmv-riverhead/
LOCATION:NYS DMV Riverhead\, 200 Old Country Rd\, Riverhead\, NY\, 11901\, United States
END:VEVENT
BEGIN:VEVENT
DTSTART;TZID=America/New_York:20240916T080000
DTEND;TZID=America/New_York:20240916T160000
DTSTAMP:20260422T004613
CREATED:20240805T123519Z
LAST-MODIFIED:20240805T123519Z
UID:1992-1726473600-1726502400@acclaimedmobile.com
SUMMARY:KINGS SUPREME COURT
DESCRIPTION:
URL:https://acclaimedmobile.com/event/kings-supreme-court/
LOCATION:KINGS SUPREME COURT\, 320 JAY STREET\, BROOKLYN\, NY\, 11201\, United States
END:VEVENT
BEGIN:VEVENT
DTSTART;TZID=America/New_York:20240917T080000
DTEND;TZID=America/New_York:20240917T160000
DTSTAMP:20260422T004613
CREATED:20240805T124421Z
LAST-MODIFIED:20240805T124421Z
UID:1994-1726560000-1726588800@acclaimedmobile.com
SUMMARY:RICHMOND SUPREME COURT
DESCRIPTION:
URL:https://acclaimedmobile.com/event/richmond-supreme-court/
LOCATION:RICHMOND SUPREME COURT\, 26 CENTRAL AVE\, STATEN ISLAND\, NY\, 10301\, United States
END:VEVENT
BEGIN:VEVENT
DTSTART;TZID=America/New_York:20240918T080000
DTEND;TZID=America/New_York:20240918T160000
DTSTAMP:20260422T004613
CREATED:20240718T115459Z
LAST-MODIFIED:20240718T115459Z
UID:1964-1726646400-1726675200@acclaimedmobile.com
SUMMARY:DSS NASSAU COUNTY
DESCRIPTION:
URL:https://acclaimedmobile.com/event/dss-nassau-county-6/2024-09-18/
LOCATION:DSS Nassau County\, 60 Charles Lingbergh Blvd\, Garden City\, NY\, 11530\, United States
END:VEVENT
BEGIN:VEVENT
DTSTART;TZID=America/New_York:20240919T080000
DTEND;TZID=America/New_York:20240919T160000
DTSTAMP:20260422T004613
CREATED:20240822T141651Z
LAST-MODIFIED:20240822T141651Z
UID:2027-1726732800-1726761600@acclaimedmobile.com
SUMMARY:NYS DMV MEDFORD
DESCRIPTION:
URL:https://acclaimedmobile.com/event/nys-dmv-medford/
LOCATION:NYS DMV MEDFORD\, 2799 NY Route 112\, Medford\, NY\, 11763\, United States
END:VEVENT
BEGIN:VEVENT
DTSTART;TZID=America/New_York:20240923T080000
DTEND;TZID=America/New_York:20240923T160000
DTSTAMP:20260422T004613
CREATED:20240805T124555Z
LAST-MODIFIED:20240805T124555Z
UID:1996-1727078400-1727107200@acclaimedmobile.com
SUMMARY:KINGS CRIMINAL COURT
DESCRIPTION:
URL:https://acclaimedmobile.com/event/kings-criminal-court/
LOCATION:KINGS CRIMINAL COURT\, 120 SCHERMERHORN ST\, BROOKLYN\, NY\, 11201\, United States
END:VEVENT
BEGIN:VEVENT
DTSTART;TZID=America/New_York:20240924T080000
DTEND;TZID=America/New_York:20240924T160000
DTSTAMP:20260422T004613
CREATED:20240828T145506Z
LAST-MODIFIED:20240828T145506Z
UID:2038-1727164800-1727193600@acclaimedmobile.com
SUMMARY:MANHATTAN SUPREME COURT
DESCRIPTION:
URL:https://acclaimedmobile.com/event/manhattan-supreme-court/
LOCATION:MANHATTAN SUPREME COURT\, 100 Centre ST\, NEW YORK\, NY\, 10013\, United States
END:VEVENT
BEGIN:VEVENT
DTSTART;TZID=America/New_York:20240925T080000
DTEND;TZID=America/New_York:20240925T160000
DTSTAMP:20260422T004613
CREATED:20240318T132142Z
LAST-MODIFIED:20240318T132142Z
UID:1967-1727251200-1727280000@acclaimedmobile.com
SUMMARY:SCCEA Central Islip Courts
DESCRIPTION:
URL:https://acclaimedmobile.com/event/sccea-riverhead-courts/2024-09-25/
LOCATION:SCCEA Central Islip Courts\, 400 Carleton Ave\, Central Islip\, NY\, 11772\, United States
END:VEVENT
BEGIN:VEVENT
DTSTART;TZID=America/New_York:20240926T080000
DTEND;TZID=America/New_York:20240926T160000
DTSTAMP:20260422T004613
CREATED:20240318T132354Z
LAST-MODIFIED:20240718T152101Z
UID:1968-1727337600-1727366400@acclaimedmobile.com
SUMMARY:SCCEA Riverhead Courts
DESCRIPTION:
URL:https://acclaimedmobile.com/event/sccea-riverhead-courts-2/2024-09-26/
LOCATION:SCCEA 210 RIVERHEAD COURTS\, 210 Center Dr S\, Riverhead\, NY\, 11901\, United States
END:VEVENT
BEGIN:VEVENT
DTSTART;TZID=America/New_York:20240930T070000
DTEND;TZID=America/New_York:20240930T150000
DTSTAMP:20260422T004613
CREATED:20240718T192338Z
LAST-MODIFIED:20240718T192338Z
UID:1971-1727679600-1727708400@acclaimedmobile.com
SUMMARY:MIDTOWN NORTH 18TH PRECINCT NYPD
DESCRIPTION:
URL:https://acclaimedmobile.com/event/midtown-north-18th-precinct-nypd/2024-09-30/
LOCATION:NYPD MIDTOWN NORTH 18TH PRECINCT\, 306 W 54TH STREET\, NEW YORK\, NEW YORK\, 10019
END:VEVENT
END:VCALENDAR