BEGIN:VCALENDAR
VERSION:2.0
PRODID:-//Acclaimed Mobile Health - ECPv6.15.20//NONSGML v1.0//EN
CALSCALE:GREGORIAN
METHOD:PUBLISH
X-WR-CALNAME:Acclaimed Mobile Health
X-ORIGINAL-URL:https://acclaimedmobile.com
X-WR-CALDESC:Events for Acclaimed Mobile Health
REFRESH-INTERVAL;VALUE=DURATION:PT1H
X-Robots-Tag:noindex
X-PUBLISHED-TTL:PT1H
BEGIN:VTIMEZONE
TZID:America/New_York
BEGIN:DAYLIGHT
TZOFFSETFROM:-0500
TZOFFSETTO:-0400
TZNAME:EDT
DTSTART:20230312T070000
END:DAYLIGHT
BEGIN:STANDARD
TZOFFSETFROM:-0400
TZOFFSETTO:-0500
TZNAME:EST
DTSTART:20231105T060000
END:STANDARD
BEGIN:DAYLIGHT
TZOFFSETFROM:-0500
TZOFFSETTO:-0400
TZNAME:EDT
DTSTART:20240310T070000
END:DAYLIGHT
BEGIN:STANDARD
TZOFFSETFROM:-0400
TZOFFSETTO:-0500
TZNAME:EST
DTSTART:20241103T060000
END:STANDARD
BEGIN:DAYLIGHT
TZOFFSETFROM:-0500
TZOFFSETTO:-0400
TZNAME:EDT
DTSTART:20250309T070000
END:DAYLIGHT
BEGIN:STANDARD
TZOFFSETFROM:-0400
TZOFFSETTO:-0500
TZNAME:EST
DTSTART:20251102T060000
END:STANDARD
END:VTIMEZONE
BEGIN:VEVENT
DTSTART;TZID=America/New_York:20240710T080000
DTEND;TZID=America/New_York:20240710T160000
DTSTAMP:20260422T040555
CREATED:20240422T185640Z
LAST-MODIFIED:20240422T185640Z
UID:1934-1720598400-1720627200@acclaimedmobile.com
SUMMARY:OPWDD / LIDDSO 45 MALL DRIVE
DESCRIPTION:
URL:https://acclaimedmobile.com/event/opwdd-liddso-45-mall-drive/
LOCATION:OPWDD / LIDDSO COMMACK\, 45 Mall Drive\, COMMACK\, NY\, 11725\, United States
END:VEVENT
BEGIN:VEVENT
DTSTART;TZID=America/New_York:20240711T080000
DTEND;TZID=America/New_York:20240711T160000
DTSTAMP:20260422T040555
CREATED:20240328T130827Z
LAST-MODIFIED:20240328T130827Z
UID:1949-1720684800-1720713600@acclaimedmobile.com
SUMMARY:Longwood Central Office/Middle School
DESCRIPTION:
URL:https://acclaimedmobile.com/event/longwood-central-office-middle-school/2024-07-11/
LOCATION:Longwood SD Central Office/Middle School\, 35 Yaphank Middle Island Rd\, Middle Island\, NY\, 11953\, United States
END:VEVENT
BEGIN:VEVENT
DTSTART;TZID=America/New_York:20240717T080000
DTEND;TZID=America/New_York:20240717T160000
DTSTAMP:20260422T040555
CREATED:20240328T130827Z
LAST-MODIFIED:20240328T130827Z
UID:1950-1721203200-1721232000@acclaimedmobile.com
SUMMARY:Longwood Central Office/Middle School
DESCRIPTION:
URL:https://acclaimedmobile.com/event/longwood-central-office-middle-school/2024-07-17/
LOCATION:Longwood SD Central Office/Middle School\, 35 Yaphank Middle Island Rd\, Middle Island\, NY\, 11953\, United States
END:VEVENT
BEGIN:VEVENT
DTSTART;TZID=America/New_York:20240718T080000
DTEND;TZID=America/New_York:20240718T160000
DTSTAMP:20260422T040555
CREATED:20240507T203900Z
LAST-MODIFIED:20240507T203900Z
UID:1938-1721289600-1721318400@acclaimedmobile.com
SUMMARY:Kingsboro Psych Center
DESCRIPTION:
URL:https://acclaimedmobile.com/event/kingsboro-psych-center/
LOCATION:Kingsboro Psychiatric Center\, 681 Clarkson Ave\, Brooklyn\, NY\, 11203\, United States
END:VEVENT
BEGIN:VEVENT
DTSTART;TZID=America/New_York:20240724T080000
DTEND;TZID=America/New_York:20240724T160000
DTSTAMP:20260422T040555
CREATED:20240604T175855Z
LAST-MODIFIED:20240604T175855Z
UID:1955-1721808000-1721836800@acclaimedmobile.com
SUMMARY:OPWDD - Staten Island
DESCRIPTION:
URL:https://acclaimedmobile.com/event/opwdd-staten-island-2/
LOCATION:OPWDD – Forest Hill Road\, Staten Island\, 1150 Forest Hill Rd\, Staten Island\, NY\, 10314\, United States
END:VEVENT
BEGIN:VEVENT
DTSTART;TZID=America/New_York:20240725T080000
DTEND;TZID=America/New_York:20240725T160000
DTSTAMP:20260422T040555
CREATED:20240718T115459Z
LAST-MODIFIED:20240718T115459Z
UID:1963-1721894400-1721923200@acclaimedmobile.com
SUMMARY:DSS NASSAU COUNTY
DESCRIPTION:
URL:https://acclaimedmobile.com/event/dss-nassau-county-6/2024-07-25/
LOCATION:DSS Nassau County\, 60 Charles Lingbergh Blvd\, Garden City\, NY\, 11530\, United States
END:VEVENT
BEGIN:VEVENT
DTSTART;TZID=America/New_York:20240731T070000
DTEND;TZID=America/New_York:20240731T150000
DTSTAMP:20260422T040555
CREATED:20240424T135207Z
LAST-MODIFIED:20240424T135207Z
UID:1936-1722409200-1722438000@acclaimedmobile.com
SUMMARY:NYPD AUTO CRIME
DESCRIPTION:
URL:https://acclaimedmobile.com/event/nypd-auto-crime/
LOCATION:NYPD Auto Crimes\, 09-15 14th Ave\, College Point\, NY\, 11356\, United States
END:VEVENT
END:VCALENDAR