BEGIN:VCALENDAR
VERSION:2.0
PRODID:-//Acclaimed Mobile Health - ECPv6.15.20//NONSGML v1.0//EN
CALSCALE:GREGORIAN
METHOD:PUBLISH
X-WR-CALNAME:Acclaimed Mobile Health
X-ORIGINAL-URL:https://acclaimedmobile.com
X-WR-CALDESC:Events for Acclaimed Mobile Health
REFRESH-INTERVAL;VALUE=DURATION:PT1H
X-Robots-Tag:noindex
X-PUBLISHED-TTL:PT1H
BEGIN:VTIMEZONE
TZID:UTC
BEGIN:STANDARD
TZOFFSETFROM:+0000
TZOFFSETTO:+0000
TZNAME:UTC
DTSTART:20250101T000000
END:STANDARD
END:VTIMEZONE
BEGIN:VEVENT
DTSTART;TZID=UTC:20260129T070000
DTEND;TZID=UTC:20260129T150000
DTSTAMP:20260420T193318
CREATED:20251003T150633Z
LAST-MODIFIED:20251003T150633Z
UID:2502-1769670000-1769698800@acclaimedmobile.com
SUMMARY:Smithtown - High School West
DESCRIPTION:
URL:https://acclaimedmobile.com/event/smithtown-high-school-west/
LOCATION:Smithtown West High School\, 100 Central Rd\, Smithtown\, NY\, 11787\, United States
END:VEVENT
END:VCALENDAR