BEGIN:VCALENDAR
VERSION:2.0
PRODID:-//Acclaimed Mobile Health - ECPv6.15.20//NONSGML v1.0//EN
CALSCALE:GREGORIAN
METHOD:PUBLISH
X-ORIGINAL-URL:https://acclaimedmobile.com
X-WR-CALDESC:Events for Acclaimed Mobile Health
REFRESH-INTERVAL;VALUE=DURATION:PT1H
X-Robots-Tag:noindex
X-PUBLISHED-TTL:PT1H
BEGIN:VTIMEZONE
TZID:America/New_York
BEGIN:DAYLIGHT
TZOFFSETFROM:-0500
TZOFFSETTO:-0400
TZNAME:EDT
DTSTART:20240310T070000
END:DAYLIGHT
BEGIN:STANDARD
TZOFFSETFROM:-0400
TZOFFSETTO:-0500
TZNAME:EST
DTSTART:20241103T060000
END:STANDARD
BEGIN:DAYLIGHT
TZOFFSETFROM:-0500
TZOFFSETTO:-0400
TZNAME:EDT
DTSTART:20250309T070000
END:DAYLIGHT
BEGIN:STANDARD
TZOFFSETFROM:-0400
TZOFFSETTO:-0500
TZNAME:EST
DTSTART:20251102T060000
END:STANDARD
BEGIN:DAYLIGHT
TZOFFSETFROM:-0500
TZOFFSETTO:-0400
TZNAME:EDT
DTSTART:20260308T070000
END:DAYLIGHT
BEGIN:STANDARD
TZOFFSETFROM:-0400
TZOFFSETTO:-0500
TZNAME:EST
DTSTART:20261101T060000
END:STANDARD
END:VTIMEZONE
BEGIN:VEVENT
DTSTART;TZID=America/New_York:20250924T100000
DTEND;TZID=America/New_York:20250924T180000
DTSTAMP:20260421T053006
CREATED:20250812T145327Z
LAST-MODIFIED:20250812T145327Z
UID:2398-1758708000-1758736800@acclaimedmobile.com
SUMMARY:SCO Family of Services
DESCRIPTION:
URL:https://acclaimedmobile.com/event/sco-family-of-services-3/2025-09-24/
LOCATION:SCO Family of Services\, 101 DOWNIG AVE\, SEA CLIFF\, NY\, 11579\, United States
END:VEVENT
END:VCALENDAR